BEGIN:VCALENDAR
VERSION:2.0
PRODID:-//eventon.com NONSGML v1.0//EN
CALSCALE:GREGORIAN
METHOD:PUBLISH
BEGIN:VEVENT
UID:69e9ea4e1d843
DTSTAMP:20260423T094550Z
DTSTART:20221020T163000Z
DTEND:20221020T233000Z
LOCATION:via webinar &amp; teleconference only
SUMMARY:PROGRAM & PLANNING COMMITTEE MEETING
DESCRIPTION:Webinar Link https://thetrust.webex.com/thetrust/j.php?MTID=mb7
 f13729ae7c748ddeeac0dcb292e6da Teleconference Information Call-in number: (
 844) 740-1264 or toll call (415) 655-0003 Session number: 2453 203 2405 # M
 eeting Password:  907 SPECIAL NOTICE: If you are going to participate via 
 Audio Teleconference\,  please call in on a hard line telephone. Please do 
 not call in on a speaker[..]\nhttps://alaskamentalhealthtrust.org/news/even
 ts/program-planning-committee-meeting-oct2022/
URL:https://alaskamentalhealthtrust.org/news/events/program-planning-committee-meeting-oct2022/
END:VEVENT
END:VCALENDAR