BEGIN:VCALENDAR
VERSION:2.0
PRODID:-//eventon.com NONSGML v1.0//EN
CALSCALE:GREGORIAN
METHOD:PUBLISH
BEGIN:VEVENT
UID:69e9e94875a1b
DTSTAMP:20260423T094128Z
DTSTART:20220727T163000Z
DTEND:20220728T224500Z
LOCATION:via webinar &amp; teleconference only
SUMMARY:PROGRAM & PLANNING COMMITTEE MEETING (2-DAY)
DESCRIPTION:Webinar Link https://thetrust.webex.com/thetrust/j.php?MTID=m2e
 1b55acb4356f71b9258205ed16fb35 Teleconference Information Call-in number: (
 844) 740-1264 or toll call (415) 655-0003 Session number: 2454 486 6538 # M
 eeting Password:  907 SPECIAL NOTICE: If you are going to participate via 
 Audio Teleconference\,  please call in on a hard line telephone. Please do 
 not call in on a speaker[..]\nhttps://alaskamentalhealthtrust.org/news/even
 ts/program-planning-committee-meeting-jul2022/
URL:https://alaskamentalhealthtrust.org/news/events/program-planning-committee-meeting-jul2022/
END:VEVENT
END:VCALENDAR