BEGIN:VCALENDAR
VERSION:2.0
PRODID:-//eventon.com NONSGML v1.0//EN
CALSCALE:GREGORIAN
METHOD:PUBLISH
BEGIN:VEVENT
UID:69e602bef198d
DTSTAMP:20260420T104102Z
DTSTART:20220106T181500Z
DTEND:20220107T002000Z
LOCATION:via webinar &amp; teleconference only
SUMMARY:PROGRAM & PLANNING COMMITTEE MEETING
DESCRIPTION:Webinar Link https://thetrust.webex.com/thetrust/j.php?MTID=mf2
 c09bd886d12cd951f4c056f2234341 Teleconference Information Call-in number: (
 844) 740-1264 or toll call (415) 655-0003 Session number: 2463 153 5492 # M
 eeting Password:  907 SPECIAL NOTICE: If you are going to participate via 
 Audio Teleconference\,  please call in on a hard line telephone. Please do 
 not call in on a speaker[..]\nhttps://alaskamentalhealthtrust.org/news/even
 ts/program-planning-committee-meeting-jan2022/
URL:https://alaskamentalhealthtrust.org/news/events/program-planning-committee-meeting-jan2022/
END:VEVENT
END:VCALENDAR