BEGIN:VCALENDAR
VERSION:2.0
PRODID:-//eventon.com NONSGML v1.0//EN
CALSCALE:GREGORIAN
METHOD:PUBLISH
BEGIN:VEVENT
UID:69ec29ec21d02
DTSTAMP:20260425T024148Z
DTSTART:20210422T170000Z
DTEND:20210422T193000Z
LOCATION:via teleconference only
SUMMARY:FINANCE COMMITTEE MEETING
DESCRIPTION:Webinar Link https://thetrust.webex.com/thetrust/j.php?MTID=m99
 8d1a333733ca53ca1787a37d269146 Teleconference Information Call-in number: (
 844) 740-1264 or toll call (415) 655-0003 Session number: 133 514 7176 # Me
 eting Password:  907 SPECIAL NOTICE: If you are going to participate via A
 udio Teleconference\,  please call in on a hard line telephone. Please do n
 ot call in on a speaker[..]\nhttps://alaskamentalhealthtrust.org/news/event
 s/finance-committee-meeting-apr2021/
URL:https://alaskamentalhealthtrust.org/news/events/finance-committee-meeting-apr2021/
END:VEVENT
END:VCALENDAR