BEGIN:VCALENDAR
VERSION:2.0
PRODID:-//eventon.com NONSGML v1.0//EN
CALSCALE:GREGORIAN
METHOD:PUBLISH
BEGIN:VEVENT
UID:69e5fe0c16f62
DTSTAMP:20260420T102100Z
DTSTART:20191106T173000Z
DTEND:20191107T020000Z
LOCATION:3745 Community Park Loop Anchorage\,  AK 99508
SUMMARY:BOARD OF TRUSTEES MEETING
DESCRIPTION:Webinar Link https://thetrust.webex.com/thetrust/j.php?MTID=md0
 9a98c8816512b9330c1e6dc27552a0 Teleconference Information Call-in number: 
   (844) 740-1264 Session number:  806 317 603 # SPECIAL NOTICE: If you ar
 e going to participate via Audio Teleconference\,  please call in on a hard
  line telephone. Please do not call in on a speaker phone nor a cell phone.
  (To prevent audio[..]\nhttps://alaskamentalhealthtrust.org/news/events/boa
 rd-of-trustees-meeting-nov2019/
URL:https://alaskamentalhealthtrust.org/news/events/board-of-trustees-meeting-nov2019/
END:VEVENT
END:VCALENDAR