BEGIN:VCALENDAR
VERSION:2.0
PRODID:-//eventon.com NONSGML v1.0//EN
CALSCALE:GREGORIAN
METHOD:PUBLISH
BEGIN:VEVENT
UID:69ec145438cd7
DTSTAMP:20260425T010940Z
DTSTART:20161026T191500Z
DTEND:20161026T204500Z
LOCATION:3745 Community Park Loop Anchorage\,  AK 99508
SUMMARY:BOARD OF TRUSTEES SPECIAL MEETING
DESCRIPTION:The Trust is overseen by a seven-member board of trustees. Unde
 r Alaska statute\,  trustees are appointed by the governor and must be conf
 irmed by the Legislature. The appointments are for five-year staggered term
 s. When a trustee&#8217;s term expires the individual continues to serve u
 ntil re-appointed and reconfirmed by the Legislature or[..]\nhttps://alaska
 mentalhealthtrust.org/news/events/board-of-trustees-special-meeting-12/
URL:https://alaskamentalhealthtrust.org/news/events/board-of-trustees-special-meeting-12/
END:VEVENT
END:VCALENDAR