BEGIN:VCALENDAR
VERSION:2.0
PRODID:-//eventon.com NONSGML v1.0//EN
CALSCALE:GREGORIAN
METHOD:PUBLISH
BEGIN:VEVENT
UID:69e60dc56ae07
DTSTAMP:20260420T112805Z
DTSTART:20180420T160000Z
DTEND:20180420T173000Z
LOCATION:3745 Community Park Loop Anchorage\,  AK 99508
SUMMARY:LEGISLATIVE & AUDIT AD HOC COMMITTEE MEETING
DESCRIPTION:The Legislative &amp; Audit Ad Hoc Committee is a temporary com
 mittee with the purpose to work with Trust staff and the LB&amp;A staff to 
 bring the current ongoing legislative audit to an early and successful conc
 lusion and to work with the Trust staff and the Legislature to craft legisl
 ation that[..]\nhttps://alaskamentalhealthtrust.org/news/events/legislative
 -audit-ad-hoc-committee-meeting-5/
URL:https://alaskamentalhealthtrust.org/news/events/legislative-audit-ad-hoc-committee-meeting-5/
END:VEVENT
END:VCALENDAR