BEGIN:VCALENDAR
VERSION:2.0
PRODID:-//eventon.com NONSGML v1.0//EN
CALSCALE:GREGORIAN
METHOD:PUBLISH
BEGIN:VEVENT
UID:69e61e5e74a3f
DTSTAMP:20260420T123854Z
DTSTART:20160809T180000Z
DTEND:20160811T003000Z
LOCATION:3745 Community Park Loop Anchorage\,  AK 99508
SUMMARY:PROGRAM & PLANNING COMMITTEE MEETING (2-day)
DESCRIPTION:The board of trustees of the Alaska Mental Health Trust Authori
 ty has established a program and planning committee to assist the board in 
 the program and planning oversight of the Trust. The role of the program an
 d planning committee will be to complete the following activities in consul
 tation with the[..]\nhttps://alaskamentalhealthtrust.org/news/events/progra
 m-planning-committee-meeting-15/
URL:https://alaskamentalhealthtrust.org/news/events/program-planning-committee-meeting-15/
END:VEVENT
END:VCALENDAR