BEGIN:VCALENDAR
VERSION:2.0
PRODID:-//eventon.com NONSGML v1.0//EN
CALSCALE:GREGORIAN
METHOD:PUBLISH
BEGIN:VEVENT
UID:69e9ebff25dc1
DTSTAMP:20260423T095303Z
DTSTART:20150325T190000Z
DTEND:20150325T203000Z
LOCATION:3745 Community Park Loop Anchorage\,  AK 99508
SUMMARY:EXECUTIVE COMMITTEE MEETING
DESCRIPTION:The board of trustees of the Alaska Mental Health Trust Authori
 ty has established an executive committee. The role of the executive commit
 tee will be to: ensure development and implementation of policies for gover
 ning the Trust; and promptly review emergency grant requests as required by
  20 AAC 40.260(f). Downloads Agenda &#8211;[..]\nhttps://alaskamentalhealth
 trust.org/news/events/executive-committee-meeting-3/
URL:https://alaskamentalhealthtrust.org/news/events/executive-committee-meeting-3/
END:VEVENT
END:VCALENDAR