BEGIN:VCALENDAR
VERSION:2.0
PRODID:-//eventon.com NONSGML v1.0//EN
CALSCALE:GREGORIAN
METHOD:PUBLISH
BEGIN:VEVENT
UID:69e9ea254811b
DTSTAMP:20260423T094509Z
DTSTART:20161117T001500Z
DTEND:20161118T013000Z
LOCATION:3745 Community Park Loop Anchorage\,  AK 99508
SUMMARY:BOARD OF TRUSTEES MEETING (2-day)
DESCRIPTION:November 16 &#8211; November 17\,  2016 The Trust is overseen b
 y a seven-member board of trustees. Under Alaska statute\,  trustees are ap
 pointed by the governor and must be confirmed by the Legislature. The appoi
 ntments are for five-year staggered terms. When a trustee&#8217;s term expi
 res the individual continues to serve until re-appointed[..]\nhttps://alas
 kamentalhealthtrust.org/news/events/board-of-trustees-meeting-9/
URL:https://alaskamentalhealthtrust.org/news/events/board-of-trustees-meeting-9/
END:VEVENT
END:VCALENDAR