BEGIN:VCALENDAR
VERSION:2.0
PRODID:-//eventon.com NONSGML v1.0//EN
CALSCALE:GREGORIAN
METHOD:PUBLISH
BEGIN:VEVENT
UID:69e610d29d788
DTSTAMP:20260420T114106Z
DTSTART:20150127T191500Z
DTEND:20150127T204500Z
LOCATION:Permanent Fund Corporation 801 West 10th Street\,  Suite 302
SUMMARY:PROGRAM & PLANNING COMMITTEE MEETING
DESCRIPTION:The board of trustees of the Alaska Mental Health Trust Authori
 ty has established a program and planning committee to assist the board in 
 the program and planning oversight of the Trust. The role of the program an
 d planning committee will be to complete the following activities in consul
 tation with the[..]\nhttps://alaskamentalhealthtrust.org/news/events/progra
 m-planning-committee-meeting/
URL:https://alaskamentalhealthtrust.org/news/events/program-planning-committee-meeting/
END:VEVENT
END:VCALENDAR