BEGIN:VCALENDAR
VERSION:2.0
PRODID:-//eventon.com NONSGML v1.0//EN
CALSCALE:GREGORIAN
METHOD:PUBLISH
BEGIN:VEVENT
UID:69e612f1eff42
DTSTAMP:20260420T115009Z
DTSTART:20260121T173000Z
DTEND:20260121T210000Z
LOCATION:3745 Community Park Loop Anchorage\,  AK 99508
SUMMARY:PROGRAM & PLANNING COMMITTEE MEETING
DESCRIPTION:Webinar Link Zoom Link Meeting ID: 842 6183 9319 Passcode: 907 
 Teleconference Information Call-in number: (669) 444-9171 or (253) 215-8782
  Meeting ID: 842 6183 9319 Passcode: 907 Meeting Documents Agenda-Program a
 nd Planning Jan 2026 Packet &#8211; Program and Planning Jan 2026 Electroni
 c Agenda\nhttps://alaskamentalhealthtrust.org/news/events/program-amp-plann
 ing-committee-meeting-jan2026/
URL:https://alaskamentalhealthtrust.org/news/events/program-amp-planning-committee-meeting-jan2026/
END:VEVENT
END:VCALENDAR