BEGIN:VCALENDAR
VERSION:2.0
PRODID:-//eventon.com NONSGML v1.0//EN
CALSCALE:GREGORIAN
METHOD:PUBLISH
BEGIN:VEVENT
UID:69e5fe672a2a5
DTSTAMP:20260420T102231Z
DTSTART:20260122T213000Z
DTEND:20260123T010000Z
LOCATION:3745 Community Park Loop Anchorage\,  AK 99508
SUMMARY:FINANCE COMMITTEE MEETING
DESCRIPTION:Webinar Link Zoom Link Meeting ID: 842 6183 9319 Passcode: 907 
 Teleconference Information Call-in number: (669) 444-9171 or (253) 215-8782
  Meeting ID: 842 6183 9319 Passcode: 907 Meeting Documents Agenda-Finance C
 ommittee Jan 2026 Packet Finance Jan 2026 Electronic Agenda\nhttps://alaska
 mentalhealthtrust.org/news/events/finance-committee-meeting-jan2026/
URL:https://alaskamentalhealthtrust.org/news/events/finance-committee-meeting-jan2026/
END:VEVENT
END:VCALENDAR