BEGIN:VCALENDAR
VERSION:2.0
PRODID:-//eventon.com NONSGML v1.0//EN
CALSCALE:GREGORIAN
METHOD:PUBLISH
BEGIN:VEVENT
UID:69e895f636d87
DTSTAMP:20260422T093342Z
DTSTART:20240104T182500Z
DTEND:20240104T203000Z
LOCATION:3745 Community Park Loop Anchorage\,  AK 99508
SUMMARY:RESOURCE MANAGEMENT COMMITTEE MEETING
DESCRIPTION:Webinar Link https://thetrust.webex.com/thetrust/j.php?MTID=mef
 a5a921b5ce10dbd1e6bf3196cb1b75 Teleconference Information Call-in number: (
 844) 740-1264 or toll call (415) 655-0003 Session number: 2631 347 6284 # M
 eeting Password:  907 SPECIAL NOTICE: If you are going to participate via 
 Audio Teleconference\,  please call in on a hard line telephone. Please do 
 not call in on a speaker[..]\nhttps://alaskamentalhealthtrust.org/news/even
 ts/resource-management-committee-meeting-jan2024/
URL:https://alaskamentalhealthtrust.org/news/events/resource-management-committee-meeting-jan2024/
END:VEVENT
END:VCALENDAR